BEGIN:VCALENDAR
VERSION:2.0
PRODID:-//bachelor plant protection
CALSCALE:GREGORIAN
METHOD:PUBLISH
X-WR-CALNAME:bachelor plant protection
X-ORIGINAL-URL:https://agriculture.unib.ac.id/bpp/event/138473/
X-WR-CALDESC:Workshop Penyusunan RPS dan Penuntun Praktikum, Jurusan Perlindungan Tanaman FP UNIB
BEGIN:VEVENT
DTSTART:
DTEND:
SUMMARY:Workshop Penyusunan RPS dan Penuntun Praktikum, Jurusan Perlindungan Tanaman FP UNIB
DESCRIPTION:
LOCATION:Gedung T-UNIB, Jurusan Proteksi Tanaman:  Jl. Raya Kandang Limun Kota Bengkulu
END:VEVENT
END:VCALENDAR
