BEGIN:VCALENDAR
VERSION:2.0
PRODID:-//bachelor plant protection
CALSCALE:GREGORIAN
METHOD:PUBLISH
X-WR-CALNAME:bachelor plant protection
X-ORIGINAL-URL:https://agriculture.unib.ac.id/bpp/event/ayoo-join-kuliah-umum-fgd-proteksi-tanaman/
X-WR-CALDESC:AYOO JOIN!!! KULIAH UMUM &amp; FGD PROTEKSI TANAMAN
BEGIN:VEVENT
DTSTART:
DTEND:
SUMMARY:AYOO JOIN!!! KULIAH UMUM &amp; FGD PROTEKSI TANAMAN
DESCRIPTION:
LOCATION:RABU, 18 DESEMBER 2024, Jam 08.30, Lokasi : Ruang Seminar Gedung T
END:VEVENT
END:VCALENDAR
