BEGIN:VCALENDAR
VERSION:2.0
PRODID:-//bachelor plant protection
CALSCALE:GREGORIAN
METHOD:PUBLISH
X-WR-CALNAME:bachelor plant protection
X-ORIGINAL-URL:https://agriculture.unib.ac.id/bpp/event/ayo-gabung-guest-lecture-series-15-kebijakan-perlindungan-tanaman-dan-karantina/
X-WR-CALDESC:AYO GABUNG!!! Guest lecture XIV: Kebijakan Perlindungan Tanaman dan Karantina
BEGIN:VEVENT
DTSTART:
DTEND:
SUMMARY:AYO GABUNG!!! Guest lecture XIV: Kebijakan Perlindungan Tanaman dan Karantina
DESCRIPTION:
LOCATION:Hari : Rabu, 5 Maret 2025 Pukul : 10.00 - 12.00 WIB Tempat: Ruang Rapat Dekanat FP UNIB
END:VEVENT
END:VCALENDAR
