BEGIN:VCALENDAR
VERSION:2.0
PRODID:-//bachelor plant protection
CALSCALE:GREGORIAN
METHOD:PUBLISH
X-WR-CALNAME:bachelor plant protection
X-ORIGINAL-URL:https://agriculture.unib.ac.id/bpp/event/dissemination-of-research-findings-event/
X-WR-CALDESC:DISSEMINATION OF RESEARCH FINDINGS EVENT
BEGIN:VEVENT
DTSTART:20251217T000000
DTEND:20251217T000000
SUMMARY:DISSEMINATION OF RESEARCH FINDINGS EVENT
DESCRIPTION:
LOCATION:
END:VEVENT
END:VCALENDAR
